BEGIN:VCALENDAR
VERSION:2.0
PRODID:-//hacksw/handcal//NONSGML v1.0//EN
CALSCALE:GREGORIAN
BEGIN:VEVENT
DTSTART:20130203T050000Z
DTEND:20130203T170000Z
UID:e12894
DTSTAMP:20260422T091119Z
LOCATION:The David Lopatie Conference Centre
DESCRIPTION:Inflammation: A friend & a foe
SUMMARY:Inflammation: A friend & a foe
END:VEVENT
END:VCALENDAR