BEGIN:VCALENDAR
VERSION:2.0
PRODID:-//hacksw/handcal//NONSGML v1.0//EN
CALSCALE:GREGORIAN
BEGIN:VEVENT
DTSTART:20130109T080000Z
DTEND:20130109T080000Z
UID:e12897
DTSTAMP:20260423T052143Z
LOCATION:Perlman Chemical Sciences Building
DESCRIPTION:Atomic force microscopy at the solid-liquid interface: learning from a nanoscale crowd control problem 
SUMMARY:Atomic force microscopy at the solid-liquid interface: learning from a nanoscale crowd control problem 
END:VEVENT
END:VCALENDAR