BEGIN:VCALENDAR
VERSION:2.0
PRODID:-//hacksw/handcal//NONSGML v1.0//EN
CALSCALE:GREGORIAN
BEGIN:VEVENT
DTSTART:20130212T070000Z
DTEND:20130212T070000Z
UID:e12900
DTSTAMP:20260423T044653Z
LOCATION:Wolfson Building for Biological Research
DESCRIPTION:"High resolution structures of the antibiotic efflux pump AcrB: Insights into coupling of H+ and drug transport"
SUMMARY:"High resolution structures of the antibiotic efflux pump AcrB: Insights into coupling of H+ and drug transport"
END:VEVENT
END:VCALENDAR