BEGIN:VCALENDAR
VERSION:2.0
PRODID:-//hacksw/handcal//NONSGML v1.0//EN
CALSCALE:GREGORIAN
BEGIN:VEVENT
DTSTART:20130305T070000Z
DTEND:20130305T070000Z
UID:e12903
DTSTAMP:20260423T183816Z
LOCATION:Wolfson Building for Biological Research
DESCRIPTION:Volatile Biomarkers: Towards Diagnosis of Disease from Breath 
SUMMARY:Volatile Biomarkers: Towards Diagnosis of Disease from Breath 
END:VEVENT
END:VCALENDAR