BEGIN:VCALENDAR
VERSION:2.0
PRODID:-//hacksw/handcal//NONSGML v1.0//EN
CALSCALE:GREGORIAN
BEGIN:VEVENT
DTSTART:20130129T173000Z
DTEND:20130202T173000Z
UID:e12909
DTSTAMP:20260425T232745Z
LOCATION:Michael Sela Auditorium
DESCRIPTION:A Pigeon and a Boy
SUMMARY:A Pigeon and a Boy
END:VEVENT
END:VCALENDAR