BEGIN:VCALENDAR
VERSION:2.0
PRODID:-//hacksw/handcal//NONSGML v1.0//EN
CALSCALE:GREGORIAN
BEGIN:VEVENT
DTSTART:20130128T120000Z
DTEND:20130128T133000Z
UID:e12911
DTSTAMP:20260424T130825Z
LOCATION:
DESCRIPTION:MNF seminar - Unraveling intrinsic neuronal growth determinants one strain at a time
SUMMARY:MNF seminar - Unraveling intrinsic neuronal growth determinants one strain at a time
END:VEVENT
END:VCALENDAR