BEGIN:VCALENDAR
VERSION:2.0
PRODID:-//hacksw/handcal//NONSGML v1.0//EN
CALSCALE:GREGORIAN
BEGIN:VEVENT
DTSTART:20130214T143000Z
DTEND:20130214T143000Z
UID:e12916
DTSTAMP:20260424T050115Z
LOCATION:Michael Sela Auditorium
DESCRIPTION:Rinat sings Uzi Hitman
SUMMARY:Rinat sings Uzi Hitman
END:VEVENT
END:VCALENDAR