BEGIN:VCALENDAR
VERSION:2.0
PRODID:-//hacksw/handcal//NONSGML v1.0//EN
CALSCALE:GREGORIAN
BEGIN:VEVENT
DTSTART:20130221T173000Z
DTEND:20130221T173000Z
UID:e12920
DTSTAMP:20260423T155405Z
LOCATION:Michael Sela Auditorium
DESCRIPTION: Israel Camerata Jerusalem
SUMMARY: Israel Camerata Jerusalem
END:VEVENT
END:VCALENDAR