BEGIN:VCALENDAR
VERSION:2.0
PRODID:-//hacksw/handcal//NONSGML v1.0//EN
CALSCALE:GREGORIAN
BEGIN:VEVENT
DTSTART:20130604T070000Z
DTEND:20130604T080000Z
UID:e12939
DTSTAMP:20260420T050223Z
LOCATION:Wolfson Building for Biological Research
DESCRIPTION:Structural Study of the GAL Regulon in S. Cerevisiae
SUMMARY:Structural Study of the GAL Regulon in S. Cerevisiae
END:VEVENT
END:VCALENDAR