BEGIN:VCALENDAR
VERSION:2.0
PRODID:-//hacksw/handcal//NONSGML v1.0//EN
CALSCALE:GREGORIAN
BEGIN:VEVENT
DTSTART:20130625T070000Z
DTEND:20130625T080000Z
UID:e12943
DTSTAMP:20260421T102843Z
LOCATION:Wolfson Building for Biological Research
DESCRIPTION:"Numbers in Nature\, Art and Architecture"
SUMMARY:"Numbers in Nature\, Art and Architecture"
END:VEVENT
END:VCALENDAR