BEGIN:VCALENDAR
VERSION:2.0
PRODID:-//hacksw/handcal//NONSGML v1.0//EN
CALSCALE:GREGORIAN
BEGIN:VEVENT
DTSTART:20130409T073000Z
DTEND:20130409T080000Z
UID:e12944
DTSTAMP:20260420T085627Z
LOCATION:Wolfson Building for Biological Research
DESCRIPTION:"The HIV-1 fusion protein exerts complex immunosuppressive effects"
SUMMARY:"The HIV-1 fusion protein exerts complex immunosuppressive effects"
END:VEVENT
END:VCALENDAR