BEGIN:VCALENDAR
VERSION:2.0
PRODID:-//hacksw/handcal//NONSGML v1.0//EN
CALSCALE:GREGORIAN
BEGIN:VEVENT
DTSTART:20130423T070000Z
DTEND:20130423T070000Z
UID:e12945
DTSTAMP:20260419T210955Z
LOCATION:Wolfson Building for Biological Research
DESCRIPTION:&#8220\;Chemical Arms Race at Sea&#8221\;: Rewiring metabolic pathways during host-virus interactions in the ocean.
SUMMARY:&#8220\;Chemical Arms Race at Sea&#8221\;: Rewiring metabolic pathways during host-virus interactions in the ocean.
END:VEVENT
END:VCALENDAR