BEGIN:VCALENDAR
VERSION:2.0
PRODID:-//hacksw/handcal//NONSGML v1.0//EN
CALSCALE:GREGORIAN
BEGIN:VEVENT
DTSTART:20130107T113000Z
DTEND:20130107T113000Z
UID:e12948
DTSTAMP:20260423T065757Z
LOCATION:Gerhard M.J. Schmidt Lecture Hall
DESCRIPTION:Cellular and Circuit Changes Underlying Cortical Learning and Pathology
SUMMARY:Cellular and Circuit Changes Underlying Cortical Learning and Pathology
END:VEVENT
END:VCALENDAR