BEGIN:VCALENDAR
VERSION:2.0
PRODID:-//hacksw/handcal//NONSGML v1.0//EN
CALSCALE:GREGORIAN
BEGIN:VEVENT
DTSTART:20130212T173000Z
DTEND:20130212T173000Z
UID:e12950
DTSTAMP:20260423T044703Z
LOCATION:Michael Sela Auditorium
DESCRIPTION:School for Wives
SUMMARY:School for Wives
END:VEVENT
END:VCALENDAR