BEGIN:VCALENDAR
VERSION:2.0
PRODID:-//hacksw/handcal//NONSGML v1.0//EN
CALSCALE:GREGORIAN
BEGIN:VEVENT
DTSTART:20130107T083000Z
DTEND:20130107T083000Z
UID:e12955
DTSTAMP:20260423T053254Z
LOCATION:Wolfson Building for Biological Research
DESCRIPTION:A minimalist approach to produce T lymphocytes in vitro
SUMMARY:A minimalist approach to produce T lymphocytes in vitro
END:VEVENT
END:VCALENDAR