BEGIN:VCALENDAR
VERSION:2.0
PRODID:-//hacksw/handcal//NONSGML v1.0//EN
CALSCALE:GREGORIAN
BEGIN:VEVENT
DTSTART:20130101T093000Z
DTEND:20130101T093000Z
UID:e12958
DTSTAMP:20260422T204930Z
LOCATION:Nella and Leon Benoziyo Building for Brain Research
DESCRIPTION:Epigenetic transgenerational inheritance alters stress responses in a sexually dimorphic manner
SUMMARY:Epigenetic transgenerational inheritance alters stress responses in a sexually dimorphic manner
END:VEVENT
END:VCALENDAR