BEGIN:VCALENDAR
VERSION:2.0
PRODID:-//hacksw/handcal//NONSGML v1.0//EN
CALSCALE:GREGORIAN
BEGIN:VEVENT
DTSTART:20130113T101500Z
DTEND:20130113T101500Z
UID:e12960
DTSTAMP:20260424T040521Z
LOCATION:Gerhard M.J. Schmidt Lecture Hall
DESCRIPTION:Methanol Fuel as Low Cost Alternative for Emission Reduction in Gas Turbines and Utility Boilers
SUMMARY:Methanol Fuel as Low Cost Alternative for Emission Reduction in Gas Turbines and Utility Boilers
END:VEVENT
END:VCALENDAR