BEGIN:VCALENDAR
VERSION:2.0
PRODID:-//hacksw/handcal//NONSGML v1.0//EN
CALSCALE:GREGORIAN
BEGIN:VEVENT
DTSTART:20130320T080000Z
DTEND:20130320T090000Z
UID:e12964
DTSTAMP:20260423T185218Z
LOCATION:Nella and Leon Benoziyo Physics Building
DESCRIPTION:THE PROGENITORS OF TYPE IA SUPERNOVA EXPLOSIONS ARE HEAD-ON COLLISIONS OF WHITE DWARFS IN TRIPLE SYSTEMS
SUMMARY:THE PROGENITORS OF TYPE IA SUPERNOVA EXPLOSIONS ARE HEAD-ON COLLISIONS OF WHITE DWARFS IN TRIPLE SYSTEMS
END:VEVENT
END:VCALENDAR