BEGIN:VCALENDAR
VERSION:2.0
PRODID:-//hacksw/handcal//NONSGML v1.0//EN
CALSCALE:GREGORIAN
BEGIN:VEVENT
DTSTART:20130107T111500Z
DTEND:20130107T111500Z
UID:e12967
DTSTAMP:20260423T053244Z
LOCATION:Edna and K.B. Weissman Building of Physical Sciences
DESCRIPTION:Example of ant cooperativity
SUMMARY:Example of ant cooperativity
END:VEVENT
END:VCALENDAR