BEGIN:VCALENDAR
VERSION:2.0
PRODID:-//hacksw/handcal//NONSGML v1.0//EN
CALSCALE:GREGORIAN
BEGIN:VEVENT
DTSTART:20130106T080000Z
DTEND:20130106T080000Z
UID:e12970
DTSTAMP:20260423T053237Z
LOCATION:Perlman Chemical Sciences Building
DESCRIPTION:Growth and gene expression of a bacterial population in space 
SUMMARY:Growth and gene expression of a bacterial population in space 
END:VEVENT
END:VCALENDAR