BEGIN:VCALENDAR
VERSION:2.0
PRODID:-//hacksw/handcal//NONSGML v1.0//EN
CALSCALE:GREGORIAN
BEGIN:VEVENT
DTSTART:20130103T113000Z
DTEND:20130103T153000Z
UID:e12971
DTSTAMP:20260422T204843Z
LOCATION:Jacob Ziskind Building
DESCRIPTION:Open Day
SUMMARY:Open Day
END:VEVENT
END:VCALENDAR