BEGIN:VCALENDAR
VERSION:2.0
PRODID:-//hacksw/handcal//NONSGML v1.0//EN
CALSCALE:GREGORIAN
BEGIN:VEVENT
DTSTART:20130220T170000Z
DTEND:20130220T170000Z
UID:e12972
DTSTAMP:20260424T050202Z
LOCATION:Michael Sela Auditorium
DESCRIPTION:Voices from Heaven
SUMMARY:Voices from Heaven
END:VEVENT
END:VCALENDAR