BEGIN:VCALENDAR
VERSION:2.0
PRODID:-//hacksw/handcal//NONSGML v1.0//EN
CALSCALE:GREGORIAN
BEGIN:VEVENT
DTSTART:20130218T080000Z
DTEND:20130218T080000Z
UID:e12974
DTSTAMP:20260424T183140Z
LOCATION:Jacob Ziskind Building
DESCRIPTION:Lee A. Segel prize ceremony
SUMMARY:Lee A. Segel prize ceremony
END:VEVENT
END:VCALENDAR