BEGIN:VCALENDAR
VERSION:2.0
PRODID:-//hacksw/handcal//NONSGML v1.0//EN
CALSCALE:GREGORIAN
BEGIN:VEVENT
DTSTART:20130324T120000Z
DTEND:20130324T120000Z
UID:e12979
DTSTAMP:20260423T185212Z
LOCATION:Camelia Botnar Building
DESCRIPTION:Metabolic Syndrome Research Club
SUMMARY:Metabolic Syndrome Research Club
END:VEVENT
END:VCALENDAR