BEGIN:VCALENDAR
VERSION:2.0
PRODID:-//hacksw/handcal//NONSGML v1.0//EN
CALSCALE:GREGORIAN
BEGIN:VEVENT
DTSTART:20130115T080000Z
DTEND:20130115T080000Z
UID:e12989
DTSTAMP:20260423T053948Z
LOCATION:Jacob Ziskind Building
DESCRIPTION:Residual Eisenstein series and small automorphic representations coming from string theory
SUMMARY:Residual Eisenstein series and small automorphic representations coming from string theory
END:VEVENT
END:VCALENDAR