BEGIN:VCALENDAR
VERSION:2.0
PRODID:-//hacksw/handcal//NONSGML v1.0//EN
CALSCALE:GREGORIAN
BEGIN:VEVENT
DTSTART:20130110T090000Z
DTEND:20130110T090000Z
UID:e12994
DTSTAMP:20260423T234746Z
LOCATION:Jacob Ziskind Building
DESCRIPTION:A Machine Learning Fusion of Biased Estimators 
SUMMARY:A Machine Learning Fusion of Biased Estimators 
END:VEVENT
END:VCALENDAR