BEGIN:VCALENDAR
VERSION:2.0
PRODID:-//hacksw/handcal//NONSGML v1.0//EN
CALSCALE:GREGORIAN
BEGIN:VEVENT
DTSTART:20130316T170000Z
DTEND:20130316T170000Z
UID:e12995
DTSTAMP:20260423T185119Z
LOCATION:Michael Sela Auditorium
DESCRIPTION:The History of Truth and Invention
SUMMARY:The History of Truth and Invention
END:VEVENT
END:VCALENDAR