BEGIN:VCALENDAR
VERSION:2.0
PRODID:-//hacksw/handcal//NONSGML v1.0//EN
CALSCALE:GREGORIAN
BEGIN:VEVENT
DTSTART:20130319T143000Z
DTEND:20130319T143000Z
UID:e12996
DTSTAMP:20260423T185211Z
LOCATION:Michael Sela Auditorium
DESCRIPTION:Everyone Loves Carmen!
SUMMARY:Everyone Loves Carmen!
END:VEVENT
END:VCALENDAR