BEGIN:VCALENDAR
VERSION:2.0
PRODID:-//hacksw/handcal//NONSGML v1.0//EN
CALSCALE:GREGORIAN
BEGIN:VEVENT
DTSTART:20130111T080000Z
DTEND:20130111T080000Z
UID:e13000
DTSTAMP:20260423T094140Z
LOCATION:Jacob Ziskind Building
DESCRIPTION:Robinson-Amitsur ultrafilters\, varieties of algebras\, and Tarski's monsters
SUMMARY:Robinson-Amitsur ultrafilters\, varieties of algebras\, and Tarski's monsters
END:VEVENT
END:VCALENDAR