BEGIN:VCALENDAR
VERSION:2.0
PRODID:-//hacksw/handcal//NONSGML v1.0//EN
CALSCALE:GREGORIAN
BEGIN:VEVENT
DTSTART:20131027T054500Z
DTEND:20131027T140000Z
UID:e13001
DTSTAMP:20260420T115044Z
LOCATION:Dolfi and Lola Ebner Auditorium
DESCRIPTION:BRAIN: The Last Frontier
SUMMARY:BRAIN: The Last Frontier
END:VEVENT
END:VCALENDAR