BEGIN:VCALENDAR
VERSION:2.0
PRODID:-//hacksw/handcal//NONSGML v1.0//EN
CALSCALE:GREGORIAN
BEGIN:VEVENT
DTSTART:20130612T080000Z
DTEND:20130612T090000Z
UID:e13005
DTSTAMP:20260420T062951Z
LOCATION:Dannie N. Heineman Laboratory
DESCRIPTION:The rates of thermonuclear supernovae from imaging and spectroscopic surveys
SUMMARY:The rates of thermonuclear supernovae from imaging and spectroscopic surveys
END:VEVENT
END:VCALENDAR