BEGIN:VCALENDAR
VERSION:2.0
PRODID:-//hacksw/handcal//NONSGML v1.0//EN
CALSCALE:GREGORIAN
BEGIN:VEVENT
DTSTART:20130128T111500Z
DTEND:20130128T111500Z
UID:e13006
DTSTAMP:20260425T075216Z
LOCATION:Edna and K.B. Weissman Building of Physical Sciences
DESCRIPTION:Fracture Toughness of Metallic      Glasses: Ductile-to-Brittle Transition?
SUMMARY:Fracture Toughness of Metallic      Glasses: Ductile-to-Brittle Transition?
END:VEVENT
END:VCALENDAR