BEGIN:VCALENDAR
VERSION:2.0
PRODID:-//hacksw/handcal//NONSGML v1.0//EN
CALSCALE:GREGORIAN
BEGIN:VEVENT
DTSTART:20130127T050000Z
DTEND:20130129T150000Z
UID:e13008
DTSTAMP:20260424T183133Z
LOCATION:
DESCRIPTION:Cancer- A Multidisciplinary Challenge
SUMMARY:Cancer- A Multidisciplinary Challenge
END:VEVENT
END:VCALENDAR