BEGIN:VCALENDAR
VERSION:2.0
PRODID:-//hacksw/handcal//NONSGML v1.0//EN
CALSCALE:GREGORIAN
BEGIN:VEVENT
DTSTART:20130106T120000Z
DTEND:20130106T130000Z
UID:e13013
DTSTAMP:20260423T053254Z
LOCATION:Perlman Chemical Sciences Building
DESCRIPTION:Chemical Physics Special Guest Seminar
SUMMARY:Chemical Physics Special Guest Seminar
END:VEVENT
END:VCALENDAR