BEGIN:VCALENDAR
VERSION:2.0
PRODID:-//hacksw/handcal//NONSGML v1.0//EN
CALSCALE:GREGORIAN
BEGIN:VEVENT
DTSTART:20130114T113000Z
DTEND:20130114T113000Z
UID:e13016
DTSTAMP:20260423T053254Z
LOCATION:Jacob Ziskind Building
DESCRIPTION:On Rigid Matrices and U-Polynomials 
SUMMARY:On Rigid Matrices and U-Polynomials 
END:VEVENT
END:VCALENDAR