BEGIN:VCALENDAR
VERSION:2.0
PRODID:-//hacksw/handcal//NONSGML v1.0//EN
CALSCALE:GREGORIAN
BEGIN:VEVENT
DTSTART:20130205T080000Z
DTEND:20130205T080000Z
UID:e13019
DTSTAMP:20260422T091136Z
LOCATION:Jacob Ziskind Building
DESCRIPTION:Order preserving and order reversing operators on the class of convex functions in Banach spaces
SUMMARY:Order preserving and order reversing operators on the class of convex functions in Banach spaces
END:VEVENT
END:VCALENDAR