BEGIN:VCALENDAR
VERSION:2.0
PRODID:-//hacksw/handcal//NONSGML v1.0//EN
CALSCALE:GREGORIAN
BEGIN:VEVENT
DTSTART:20130115T110000Z
DTEND:20130115T120000Z
UID:e13022
DTSTAMP:20260423T053946Z
LOCATION:Helen and Milton A. Kimmelman Building
DESCRIPTION:"Using the Stylophora pistillata genome and cell cultures to understand the mechanism of aragonite precipitation in corals"
SUMMARY:"Using the Stylophora pistillata genome and cell cultures to understand the mechanism of aragonite precipitation in corals"
END:VEVENT
END:VCALENDAR