BEGIN:VCALENDAR
VERSION:2.0
PRODID:-//hacksw/handcal//NONSGML v1.0//EN
CALSCALE:GREGORIAN
BEGIN:VEVENT
DTSTART:20130129T110000Z
DTEND:20130129T120000Z
UID:e13023
DTSTAMP:20260424T180021Z
LOCATION:Helen and Milton A. Kimmelman Building
DESCRIPTION:"The Rhythm of Protein Elongation\; Observing Ensemble and Single Ribosomes During Cell-free Protein Synthesis"
SUMMARY:"The Rhythm of Protein Elongation\; Observing Ensemble and Single Ribosomes During Cell-free Protein Synthesis"
END:VEVENT
END:VCALENDAR