BEGIN:VCALENDAR
VERSION:2.0
PRODID:-//hacksw/handcal//NONSGML v1.0//EN
CALSCALE:GREGORIAN
BEGIN:VEVENT
DTSTART:20130108T130000Z
DTEND:20130108T130000Z
UID:e13024
DTSTAMP:20260424T034547Z
LOCATION:Jacob Ziskind Building
DESCRIPTION:An effective criterion for algebraic contraction of curves 
SUMMARY:An effective criterion for algebraic contraction of curves 
END:VEVENT
END:VCALENDAR