BEGIN:VCALENDAR
VERSION:2.0
PRODID:-//hacksw/handcal//NONSGML v1.0//EN
CALSCALE:GREGORIAN
BEGIN:VEVENT
DTSTART:20130226T091500Z
DTEND:20130226T091500Z
UID:e13027
DTSTAMP:20260424T050215Z
LOCATION:Wolfson Building for Biological Research
DESCRIPTION:Plasticity of development &#8211\; Mechanisms and trans-generational implications
SUMMARY:Plasticity of development &#8211\; Mechanisms and trans-generational implications
END:VEVENT
END:VCALENDAR