BEGIN:VCALENDAR
VERSION:2.0
PRODID:-//hacksw/handcal//NONSGML v1.0//EN
CALSCALE:GREGORIAN
BEGIN:VEVENT
DTSTART:20130109T080000Z
DTEND:20130109T080000Z
UID:e13029
DTSTAMP:20260423T053251Z
LOCATION:The David Lopatie Hall of Graduate Studies
DESCRIPTION:The Furstenberg Entropy Realization Problem 
SUMMARY:The Furstenberg Entropy Realization Problem 
END:VEVENT
END:VCALENDAR