BEGIN:VCALENDAR
VERSION:2.0
PRODID:-//hacksw/handcal//NONSGML v1.0//EN
CALSCALE:GREGORIAN
BEGIN:VEVENT
DTSTART:20130113T120000Z
DTEND:20130113T120000Z
UID:e13031
DTSTAMP:20260423T053235Z
LOCATION:Wolfson Building for Biological Research
DESCRIPTION:The molecular mechanisms by which CD74 regulate survival of cells
SUMMARY:The molecular mechanisms by which CD74 regulate survival of cells
END:VEVENT
END:VCALENDAR