BEGIN:VCALENDAR
VERSION:2.0
PRODID:-//hacksw/handcal//NONSGML v1.0//EN
CALSCALE:GREGORIAN
BEGIN:VEVENT
DTSTART:20130109T110000Z
DTEND:20130109T120000Z
UID:e13032
DTSTAMP:20260423T053238Z
LOCATION:Helen and Milton A. Kimmelman Building
DESCRIPTION:"Single-Molecule Investigation of the Conformational States and Dynamics of the G-Protein &#945\; Subunit During Receptor Activation"
SUMMARY:"Single-Molecule Investigation of the Conformational States and Dynamics of the G-Protein &#945\; Subunit During Receptor Activation"
END:VEVENT
END:VCALENDAR