BEGIN:VCALENDAR
VERSION:2.0
PRODID:-//hacksw/handcal//NONSGML v1.0//EN
CALSCALE:GREGORIAN
BEGIN:VEVENT
DTSTART:20130110T081500Z
DTEND:20130110T093000Z
UID:e13034
DTSTAMP:20260423T053236Z
LOCATION:Edna and K.B. Weissman Building of Physical Sciences
DESCRIPTION:Relativistic Transient Explosions
SUMMARY:Relativistic Transient Explosions
END:VEVENT
END:VCALENDAR