BEGIN:VCALENDAR
VERSION:2.0
PRODID:-//hacksw/handcal//NONSGML v1.0//EN
CALSCALE:GREGORIAN
BEGIN:VEVENT
DTSTART:20130115T093000Z
DTEND:20130115T093000Z
UID:e13035
DTSTAMP:20260423T094143Z
LOCATION:Gerhard M.J. Schmidt Lecture Hall
DESCRIPTION:History and News in the Human Visual Cortex
SUMMARY:History and News in the Human Visual Cortex
END:VEVENT
END:VCALENDAR