BEGIN:VCALENDAR
VERSION:2.0
PRODID:-//hacksw/handcal//NONSGML v1.0//EN
CALSCALE:GREGORIAN
BEGIN:VEVENT
DTSTART:20130110T061500Z
DTEND:20130110T073000Z
UID:e13041
DTSTAMP:20260423T053252Z
LOCATION:Arthur and Rochelle Belfer Building for Biomedical Research
DESCRIPTION:From cell shape to cell fate determination: insights from skin development
SUMMARY:From cell shape to cell fate determination: insights from skin development
END:VEVENT
END:VCALENDAR