BEGIN:VCALENDAR
VERSION:2.0
PRODID:-//hacksw/handcal//NONSGML v1.0//EN
CALSCALE:GREGORIAN
BEGIN:VEVENT
DTSTART:20130127T113000Z
DTEND:20130127T113000Z
UID:e13046
DTSTAMP:20260424T225411Z
LOCATION:Gerhard M.J. Schmidt Lecture Hall
DESCRIPTION:THE ORCHESTRAL BRAIN:HIGH-FIDELITY CODING WITH CORRELATED NEURONS 
SUMMARY:THE ORCHESTRAL BRAIN:HIGH-FIDELITY CODING WITH CORRELATED NEURONS 
END:VEVENT
END:VCALENDAR