BEGIN:VCALENDAR
VERSION:2.0
PRODID:-//hacksw/handcal//NONSGML v1.0//EN
CALSCALE:GREGORIAN
BEGIN:VEVENT
DTSTART:20130112T153000Z
DTEND:20130118T103000Z
UID:e13047
DTSTAMP:20260423T053948Z
LOCATION:The David Lopatie Conference Centre
DESCRIPTION:The 6th Advanced EPR School of EFEPR
SUMMARY:The 6th Advanced EPR School of EFEPR
END:VEVENT
END:VCALENDAR