BEGIN:VCALENDAR
VERSION:2.0
PRODID:-//hacksw/handcal//NONSGML v1.0//EN
CALSCALE:GREGORIAN
BEGIN:VEVENT
DTSTART:20130117T093000Z
DTEND:20130117T093000Z
UID:e13049
DTSTAMP:20260423T185234Z
LOCATION:Gerhard M.J. Schmidt Lecture Hall
DESCRIPTION:Multisensory processes guide 3-D spatial navigation in echolocating bats
SUMMARY:Multisensory processes guide 3-D spatial navigation in echolocating bats
END:VEVENT
END:VCALENDAR