BEGIN:VCALENDAR
VERSION:2.0
PRODID:-//hacksw/handcal//NONSGML v1.0//EN
CALSCALE:GREGORIAN
BEGIN:VEVENT
DTSTART:20130428T050000Z
DTEND:20130429T130000Z
UID:e13054
DTSTAMP:20260420T085623Z
LOCATION:The David Lopatie Conference Centre
DESCRIPTION:Batsheva Workshop on Spatial Challenges in Neuronal Cell Biology
SUMMARY:Batsheva Workshop on Spatial Challenges in Neuronal Cell Biology
END:VEVENT
END:VCALENDAR